BEGIN:VCALENDAR
VERSION:2.0
PRODID:-//ChamberMaster//Event Calendar 2.0//EN
METHOD:PUBLISH
X-PUBLISHED-TTL:P3D
REFRESH-INTERVAL:P3D
CALSCALE:GREGORIAN
BEGIN:VEVENT
DTSTART:20211206T230000Z
DTEND:20211207T010000Z
X-MICROSOFT-CDO-ALLDAYEVENT:FALSE
SUMMARY:WIB After Hours
DESCRIPTION:Women In Business After-Hours
X-ALT-DESC;FMTTYPE=text/html:Women In Business After-Hours
LOCATION:Wine Down Nashville 2720 Old Lebanon Rd Suite 111 Nashville\, Tn 37214
UID:e.2870.2076
SEQUENCE:3
DTSTAMP:20260421T113633Z
URL:https://business.donelsonhermitagechamber.com/events/details/wib-after-hours-2076
END:VEVENT

END:VCALENDAR
