BEGIN:VCALENDAR
VERSION:2.0
PRODID:-//ChamberMaster//Event Calendar 2.0//EN
METHOD:PUBLISH
X-PUBLISHED-TTL:P3D
REFRESH-INTERVAL:P3D
CALSCALE:GREGORIAN
BEGIN:VEVENT
DTSTART;VALUE=DATE:20230605
DTEND;VALUE=DATE:20230606
TRANSP:TRANSPARENT
X-MICROSOFT-CDO-ALLDAYEVENT:TRUE
SUMMARY:Volunteers of America - Golf Tournament
DESCRIPTION:Volunteers of America\n\n14th Annual Weekend of Champions\n\nGolf Tournament\n\nThe Hermitage Golf Course 3939 Old Hickory Blvd\, Old Hickory\, TN 37138\n\nMorning registration | 6:30 - 7:15 a.m.\n\nTee Time | 7:30 a.m.\n\nAfternoon registration | 11:30 a.m. - 1:15 p.m.*\n\nTee Time | 1:30 p.m.
X-ALT-DESC;FMTTYPE=text/html:Volunteers of America<br />\n14th Annual Weekend of Champions<br />\nGolf Tournament<br />\nThe Hermitage Golf Course 3939 Old Hickory Blvd\, Old Hickory\, TN 37138<br />\nMorning registration | 6:30 - 7:15 a.m.<br />\nTee Time | 7:30 a.m.<br />\nAfternoon registration | 11:30 a.m. - 1:15 p.m.*<br />\nTee Time | 1:30 p.m.
LOCATION:The Hermitage Golf Course 3939 Old Hickory Blvd Old Hickory\, TN 37138
UID:e.2870.2139
SEQUENCE:3
DTSTAMP:20260420T064909Z
URL:https://business.donelsonhermitagechamber.com/events/details/volunteers-of-america-golf-tournament-2139
END:VEVENT

END:VCALENDAR
