BEGIN:VCALENDAR
VERSION:2.0
PRODID:-//ChamberMaster//Event Calendar 2.0//EN
METHOD:PUBLISH
X-PUBLISHED-TTL:P3D
REFRESH-INTERVAL:P3D
CALSCALE:GREGORIAN
BEGIN:VEVENT
DTSTART:20230604T220000Z
DTEND:20230605T010000Z
X-MICROSOFT-CDO-ALLDAYEVENT:FALSE
SUMMARY:Volunteers of America - Dinner of Champions
DESCRIPTION:Volunteers of America\n\n14th Annual Weekend of Champions\n\nDinner of Champions
X-ALT-DESC;FMTTYPE=text/html:Volunteers of America<br />\n14th Annual Weekend of Champions<br />\nDinner of Champions
LOCATION:Renaissance Nashville Hotel 611 Commerce Street Nashville\, TN 37203
UID:e.2870.2138
SEQUENCE:3
DTSTAMP:20260420T050631Z
URL:https://business.donelsonhermitagechamber.com/events/details/volunteers-of-america-dinner-of-champions-2138
END:VEVENT

END:VCALENDAR
