BEGIN:VCALENDAR
VERSION:2.0
PRODID:-//ChamberMaster//Event Calendar 2.0//EN
METHOD:PUBLISH
X-PUBLISHED-TTL:P3D
REFRESH-INTERVAL:P3D
CALSCALE:GREGORIAN
BEGIN:VEVENT
DTSTART:20201112T180000Z
DTEND:20201112T190000Z
X-MICROSOFT-CDO-ALLDAYEVENT:FALSE
SUMMARY:Virtual GMM- November
DESCRIPTION:Virtual - November General Membership Meeting\n\nThursday\, 11/12/2020 at 12:00 p.m.\n\n\n\nJoin us virtually for our November 12th General Membership Meeting as we focus on Small Business.\n\nZoom link details are included in your registration confirmation email.
X-ALT-DESC;FMTTYPE=text/html:<strong style="font-size: 16px\; text-align: center\;">Virtual - November General Membership Meeting<br />\nThursday\, 11/12/2020 at 12:00 p.m.</strong><br />\n<br />\nJoin us virtually for our November 12th General Membership Meeting as we focus on Small Business.<br />\nZoom link details are included in your registration confirmation email.
LOCATION:Zoom
UID:e.2870.1982
SEQUENCE:3
DTSTAMP:20260420T155111Z
URL:https://business.donelsonhermitagechamber.com/events/details/virtual-gmm-november-1982
END:VEVENT

END:VCALENDAR
