BEGIN:VCALENDAR
VERSION:2.0
PRODID:-//ChamberMaster//Event Calendar 2.0//EN
METHOD:PUBLISH
X-PUBLISHED-TTL:P3D
REFRESH-INTERVAL:P3D
CALSCALE:GREGORIAN
BEGIN:VEVENT
DTSTART:20201210T180000Z
DTEND:20201210T190000Z
X-MICROSOFT-CDO-ALLDAYEVENT:FALSE
SUMMARY:Virtual GMM- December Awards & Installation of Officers
DESCRIPTION:Virtual - December General Membership Meeting (Lunch Delivery Option Available*)\n\nThursday\, 12/10/2020 at 12:00 p.m.\n\n\n\nJoin us virtually on Thursday December 10th for our General Membership Meeting\; Awards and Installation of Officers.\n\nJudge Dianne Turner will be joining us to virtually swear in our 2021 Officers and Board Members.\n\n\n\nAs we are unable to get together for the end of the year\, we wanted to offer you a contact-free holiday themed lunchbox delivery option*. Lunch will include the following:\n\n\n\nCroissant Entree of Your Choice (Ham or Turkey)\n\nRoasted Sweet Potato and Kale Salad with Goat Cheese and Dried Cranberries (Lemon Vinaigrette)\n\nDessert\n\nSparkling Cider\n\n\n\nEntree and Salad will be catered by Wine Down Nashville. \n\n\n\nIf you prefer to forego the lunch option\, please choose the "No Lunch - Only Viewing" in the drop down menu to proceed with your registration. *To be eligible for lunch delivery\, you must be in the 37210\, 37214\, 37076\, or 37138 zip codes during the time of delivery (10:30 a.m. - 11:30 a.m.). Delivery deadline is Wednesday 12/9 at 3:00 p.m.\n\n\n\nZoom link details are included in your registration confirmation email.
X-ALT-DESC;FMTTYPE=text/html:<strong style="font-size: 16px\; text-align: center\;">Virtual - December General Membership Meeting (Lunch Delivery Option Available*)<br />\nThursday\, 12/10/2020 at 12:00 p.m.</strong><br />\n<br />\nJoin us virtually on Thursday December 10th for our General Membership Meeting\; Awards and Installation of Officers.<br />\nJudge Dianne Turner will be joining us to virtually swear in our 2021 Officers and Board Members.<br />\n<br />\nAs we are unable to get together for the end of the year\, we wanted to offer you a contact-free holiday themed lunchbox delivery option*. Lunch will include the following:<br />\n<br />\nCroissant Entree of Your Choice (Ham or Turkey)<br />\nRoasted Sweet Potato and Kale Salad with Goat Cheese and Dried Cranberries (Lemon Vinaigrette)<br />\nDessert<br />\nSparkling Cider<br />\n<br />\nEntree and Salad will be catered by Wine Down Nashville.&nbsp\;<br />\n<br />\nIf you prefer to forego the lunch option\, please choose the &quot\;No Lunch - Only Viewing&quot\; in the drop<em><strong> </strong></em>down menu to proceed with your registration. <em><strong>*To be eligible for lunch delivery\, you must be in the 37210\, 37214\, 37076\, or 37138 zip codes during the time of delivery (10:30 a.m. - 11:30 a.m.). Delivery deadline is Wednesday 12/9 at 3:00 p.m.</strong></em><br />\n<br />\nZoom link details are included in your registration confirmation email.
LOCATION:Zoom
UID:e.2870.1985
SEQUENCE:3
DTSTAMP:20260420T173532Z
URL:https://business.donelsonhermitagechamber.com/events/details/virtual-gmm-december-awards-installation-of-officers-1985
END:VEVENT

END:VCALENDAR
