BEGIN:VCALENDAR
VERSION:2.0
PRODID:-//ChamberMaster//Event Calendar 2.0//EN
METHOD:PUBLISH
X-PUBLISHED-TTL:P3D
REFRESH-INTERVAL:P3D
CALSCALE:GREGORIAN
BEGIN:VEVENT
DTSTART:20210114T180000Z
DTEND:20210114T190000Z
X-MICROSOFT-CDO-ALLDAYEVENT:FALSE
SUMMARY:Virtual General Membership Meeting
DESCRIPTION:General Membership Meeting\n\nNetworking & Chamber Committees in the New Year\n\nThursday Jan 14th 2021\n\n12:00 p.m. - 1:00 p.m.\n\n\n\nLooking to make some new business connections for 2021?\n\nHave you ever wondered what goes into pulling off our Chamber Events?\n\nJoin us for networking and learning more about the various Chamber Committees\n\nin the New Year!\n\n\n\nComplete our 2 Minute Survey with the link in the registration confirmation email to let us know your interests!\n\n\n\nDuring our Zoom GMM\, you'll hear from Committee Chairs from the following Committees:\n\n\n	Public Relations & Promotion\n	Membership Development\n	Community Connections\n	Community Events\n	Economic Advocacy & Development\n	Chamber Support\n\n	 \n\n\nFor more information\, please visit our website and view the "Meet Our Committees" page.
X-ALT-DESC;FMTTYPE=text/html:<div style="text-align: center\;"><span style="font-size: 14px\;"><strong>General Membership Meeting</strong></span><br />\n<span style="font-size: 16px\;"><em><strong>Networking &amp\; Chamber Committees in the New Year</strong></em></span><br />\nThursday Jan 14th 2021<br />\n12:00 p.m. - 1:00 p.m.<br />\n<br />\nLooking to make some new business connections for 2021?<br />\nHave you ever wondered what goes into pulling off our Chamber Events?<br />\nJoin us for networking and learning more about the various Chamber Committees<br />\nin the New Year!<br />\n<br />\nComplete our 2 Minute Survey with the link in the registration confirmation email to let us know your interests!<br />\n<br />\nDuring our Zoom GMM\, you&#39\;ll hear from Committee Chairs from the following Committees:</div>\n\n<ul>\n	<li><strong>Public Relations &amp\; Promotion</strong></li>\n	<li><strong>Membership Development</strong></li>\n	<li><strong>Community Connections</strong></li>\n	<li><strong>Community Events</strong></li>\n	<li><strong>Economic Advocacy &amp\; Development</strong></li>\n	<li><strong>Chamber Support</strong><br />\n	&nbsp\;</li>\n</ul>\n\n<div style="text-align: center\;">For more information\, please visit our website and view the <a href="https://www.donelsonhermitagechamber.com/meet-our-committees/" target="_blank">&quot\;Meet Our Committees&quot\;</a> page.</div>\n
LOCATION:Virtual - Zoom Zoom & Survey Link provided with registration confirmation.
UID:e.2870.1498
SEQUENCE:3
DTSTAMP:20260422T080836Z
URL:https://business.donelsonhermitagechamber.com/events/details/virtual-general-membership-meeting-1498
END:VEVENT

END:VCALENDAR
