BEGIN:VCALENDAR
VERSION:2.0
PRODID:-//ChamberMaster//Event Calendar 2.0//EN
METHOD:PUBLISH
X-PUBLISHED-TTL:P3D
REFRESH-INTERVAL:P3D
CALSCALE:GREGORIAN
BEGIN:VEVENT
DTSTART:20210401T123000Z
DTEND:20210401T133000Z
X-MICROSOFT-CDO-ALLDAYEVENT:FALSE
SUMMARY:Virtual DHCC Board of Directors Monthly Meeting
DESCRIPTION:Virtual monthly meeting of the Donelson-Hermitage Chamber of Commerce Board of Directors
X-ALT-DESC;FMTTYPE=text/html:Virtual monthly meeting of the Donelson-Hermitage Chamber of Commerce Board of Directors
LOCATION:Zoom
UID:e.2870.1366
SEQUENCE:3
DTSTAMP:20260422T033150Z
URL:https://business.donelsonhermitagechamber.com/events/details/virtual-dhcc-board-of-directors-monthly-meeting-1366
END:VEVENT

END:VCALENDAR
