BEGIN:VCALENDAR
VERSION:2.0
PRODID:-//ChamberMaster//Event Calendar 2.0//EN
METHOD:PUBLISH
X-PUBLISHED-TTL:P3D
REFRESH-INTERVAL:P3D
CALSCALE:GREGORIAN
BEGIN:VEVENT
DTSTART:20200806T123000Z
DTEND:20200806T133000Z
X-MICROSOFT-CDO-ALLDAYEVENT:FALSE
SUMMARY:Virtual Chamber Board of Directors Monthly Meeting
DESCRIPTION:Monthly meeting of the Donelson-Hermitage Chamber of Commerce Board of Directors\n\n\n\nThis month's meeting will take place via Zoom. Please register to receive Zoom meeting details in your registration confirmation email.
X-ALT-DESC;FMTTYPE=text/html:Monthly meeting of the Donelson-Hermitage Chamber of Commerce Board of Directors<br />\n<br />\nThis month&#39\;s meeting will take place via Zoom. Please register to receive Zoom meeting details in your registration confirmation email.&nbsp\;
LOCATION:via Zoom
UID:e.2870.1358
SEQUENCE:3
DTSTAMP:20260420T191701Z
URL:https://business.donelsonhermitagechamber.com/events/details/virtual-chamber-board-of-directors-monthly-meeting-1358
END:VEVENT

END:VCALENDAR
