BEGIN:VCALENDAR
VERSION:2.0
PRODID:-//ChamberMaster//Event Calendar 2.0//EN
METHOD:PUBLISH
X-PUBLISHED-TTL:P3D
REFRESH-INTERVAL:P3D
CALSCALE:GREGORIAN
BEGIN:VEVENT
DTSTART:20231023T200000Z
DTEND:20231023T210000Z
X-MICROSOFT-CDO-ALLDAYEVENT:FALSE
SUMMARY:The Nail Spot - Ribbon Cutting
DESCRIPTION:The Nail Spot - Ribbon Cutting
X-ALT-DESC;FMTTYPE=text/html:The Nail Spot - Ribbon Cutting
LOCATION:The Nail Spot 211 Donelson Pike Nashville\, TN 37214
UID:e.2870.2195
SEQUENCE:3
DTSTAMP:20260420T000619Z
URL:https://business.donelsonhermitagechamber.com/events/details/the-nail-spot-ribbon-cutting-2195
END:VEVENT

END:VCALENDAR
