BEGIN:VCALENDAR
VERSION:2.0
PRODID:-//ChamberMaster//Event Calendar 2.0//EN
METHOD:PUBLISH
X-PUBLISHED-TTL:P3D
REFRESH-INTERVAL:P3D
CALSCALE:GREGORIAN
BEGIN:VEVENT
DTSTART:20190917T190000Z
DTEND:20190917T203000Z
X-MICROSOFT-CDO-ALLDAYEVENT:FALSE
SUMMARY:The Good Guys Foundation
DESCRIPTION:Sgt. Henry Particelli will be at Charter Senior Living on 9/17 @ 2pm. Around 3 we will be doing a Community Challenge Video to the song "The Good Guys." There are quite a few posts on it on the Charter Hermitage facebook or you can go to goodguys.org or just give me a call! Donna Backman 360-420-3385 If any questions or if you have the time - it would be great to have you a part of this special afternoon! Donna
X-ALT-DESC;FMTTYPE=text/html:Sgt. Henry Particelli will be at Charter Senior Living on 9/17 @ 2pm. Around 3 we will be doing a Community Challenge Video to the song &quot\;The Good Guys.&quot\; There are quite a few posts on it on the Charter Hermitage facebook or you can go to goodguys.org or just give me a call! Donna Backman 360-420-3385 If any questions or if you have the time - it would be great to have you a part of this special afternoon! Donna
LOCATION:4131 Andrew Jackson Parkway Hermitage
UID:e.2870.1839
SEQUENCE:3
DTSTAMP:20260420T104019Z
URL:https://business.donelsonhermitagechamber.com/events/details/the-good-guys-foundation-1839
END:VEVENT

END:VCALENDAR
