BEGIN:VCALENDAR
VERSION:2.0
PRODID:-//ChamberMaster//Event Calendar 2.0//EN
METHOD:PUBLISH
X-PUBLISHED-TTL:P3D
REFRESH-INTERVAL:P3D
CALSCALE:GREGORIAN
BEGIN:VEVENT
DTSTART:20230921T210000Z
DTEND:20230921T230000Z
X-MICROSOFT-CDO-ALLDAYEVENT:FALSE
SUMMARY:The Aria at Hermitage Hills Apartments Grand Opening and Ribbon Cutting
DESCRIPTION:The Aria at Hermitage Hills Apartments Grand Opening and Ribbon Cutting
X-ALT-DESC;FMTTYPE=text/html:The Aria at Hermitage Hills Apartments Grand Opening and Ribbon Cutting
LOCATION:The Aria at Hermitage Hills Apartments 1011 Lady Nashville Ct Hermitage\, TN 37076
UID:e.2870.2184
SEQUENCE:3
DTSTAMP:20260420T001207Z
URL:https://business.donelsonhermitagechamber.com/events/details/the-aria-at-hermitage-hills-apartments-grand-opening-and-ribbon-cutting-2184
END:VEVENT

END:VCALENDAR
