BEGIN:VCALENDAR
VERSION:2.0
PRODID:-//ChamberMaster//Event Calendar 2.0//EN
METHOD:PUBLISH
X-PUBLISHED-TTL:P3D
REFRESH-INTERVAL:P3D
CALSCALE:GREGORIAN
BEGIN:VEVENT
DTSTART;VALUE=DATE:20210420
DTEND;VALUE=DATE:20210421
TRANSP:TRANSPARENT
X-MICROSOFT-CDO-ALLDAYEVENT:TRUE
SUMMARY:#SupportDHLocal
DESCRIPTION:Join us for the next edition of #SupportDHLocal \n\n\n\n\n\n\n\nAddress: \n\nPhone: (615) \n\nHours: 11:00 a.m. - 10:00 p.m.\n\nView Their Menu HERE\n\nService Options: Dine in & carry out\; Delivery offered by 3rd party\n\nOnline Ordering? Through 3rd party app\n\n\n\nIn 2020\, the Donelson Hermitage Chamber created SupportDHLocal\; it's newest initiative to support our member restaurants during an extraordinary year. Each week a member restaurant was randomly drawn and we'd ask that our members and the community show them some local love by visiting their establishment the following week.\n\n\n\nAs we move into 2021\, we know that our community could still use a little extra support. And to do our part\, the Chamber will begin highlighting non-member restaurants in the Donelson Hermitage community. Each Friday\, we'll draw a new restaurant and ask that you pay them a visit the following Tuesday. \n\n\n\nIf you'd like to be entered into a drawing to win a gift card from that week's participating restaurant\, just follow these simple steps:\n\n\n\n1. "Like" their page on Facebook.\n\n2. Check in at the business and make a post - Make sure it's public!\n\n3. Use #SupportDHLocal in your post.
X-ALT-DESC;FMTTYPE=text/html:<br />\n<strong><span style="font-size: 18px\;"><span style="font-size: 20px\;">Join us for the next edition of #SupportDHLocal&nbsp\;</span><br />\n<br />\n<br />\n<br />\n<span style="font-size: 16px\;">Address:&nbsp\;<br />\nPhone: (615)&nbsp\;<br />\nHours: 11:00 a.m. - 10:00 p.m.<br />\nView Their Menu HERE<br />\nService Options: Dine in &amp\; carry out\; Delivery offered by 3rd party<br />\nOnline Ordering? Through 3rd party app</span></span></strong><br />\n<br />\n<span style="font-size:14px\;"><span style="color: rgb(32\, 32\, 32)\; font-family: Helvetica\;">In 2020\, the Donelson Hermitage Chamber created SupportDHLocal\;&nbsp\;</span><span style="color: rgb(32\, 32\, 32)\; font-family: Helvetica\;">it&#39\;s newest initiative to support our member restaurants during an extraordinary year. Each week a member restaurant was randomly drawn&nbsp\;and we&#39\;d ask&nbsp\;that our members and the community show them some local love by visiting their establishment the following week.</span><br style="color: rgb(32\, 32\, 32)\; font-family: Helvetica\; font-size: 16px\; background-color: rgb(239\, 239\, 239)\;" />\n<br style="color: rgb(32\, 32\, 32)\; font-family: Helvetica\; font-size: 16px\; background-color: rgb(239\, 239\, 239)\;" />\n<span style="color: rgb(32\, 32\, 32)\; font-family: Helvetica\;">As we move into 2021\, we know that our community could still use a little extra support. And to do our part\,&nbsp\;the Chamber will begin highlighting non-member restaurants in the Donelson Hermitage community.&nbsp\;Each Friday\, we&#39\;ll draw a new restaurant and ask that you pay them a visit the following Tuesday.&nbsp\;</span></span><br />\n<br />\n<strong><span style="background-color:#ADD8E6\;">If you&#39\;d like to be entered into a drawing to win a gift card from that week&#39\;s participating restaurant\, just follow these simple steps:</span></strong><br />\n<br />\n1. &quot\;Like&quot\; their page on Facebook.<br />\n2. Check in at the business and make a post - <strong>Make sure it&#39\;s public!</strong><br />\n3. Use #SupportDHLocal in your post.<br />\n&nbsp\;
LOCATION:
UID:e.2870.2042
SEQUENCE:3
DTSTAMP:20260422T012521Z
URL:https://business.donelsonhermitagechamber.com/events/details/supportdhlocal-04-20-2021-2042
END:VEVENT

END:VCALENDAR
