BEGIN:VCALENDAR
VERSION:2.0
PRODID:-//ChamberMaster//Event Calendar 2.0//EN
METHOD:PUBLISH
X-PUBLISHED-TTL:P3D
REFRESH-INTERVAL:P3D
CALSCALE:GREGORIAN
BEGIN:VEVENT
DTSTART;VALUE=DATE:20231018
DTEND;VALUE=DATE:20231019
TRANSP:TRANSPARENT
X-MICROSOFT-CDO-ALLDAYEVENT:TRUE
SUMMARY:Support Your Local Chamber Day
DESCRIPTION:Support Your Local Chamber Day
X-ALT-DESC;FMTTYPE=text/html:Support Your Local Chamber Day
LOCATION:
UID:e.2870.2200
SEQUENCE:3
DTSTAMP:20260419T235157Z
URL:https://business.donelsonhermitagechamber.com/events/details/support-your-local-chamber-day-2200
END:VEVENT

END:VCALENDAR
