BEGIN:VCALENDAR
VERSION:2.0
PRODID:-//ChamberMaster//Event Calendar 2.0//EN
METHOD:PUBLISH
X-PUBLISHED-TTL:P3D
REFRESH-INTERVAL:P3D
CALSCALE:GREGORIAN
BEGIN:VEVENT
DTSTART;VALUE=DATE:20201128
DTEND;VALUE=DATE:20201207
TRANSP:TRANSPARENT
X-MICROSOFT-CDO-ALLDAYEVENT:TRUE
SUMMARY:Shop Small Y'all All Season Long
DESCRIPTION:Attention Shoppers!\n\nShop small this holiday season by supporting local businesses! \n\n\nVisit and make a purchase at any of the participating businesses listed below (info coming soon) on November 28 - December 6\, keep your receipt and scan the QR code at the register to be entered into a $500 drawing. The more purchases you make at participating businesses\, the more likely you are to win! Limit ONE entry at each store with purchase. Receipt must be uploaded to qualify. Entries with duplicate receipts will be disqualified. There will be additional drawings held for gift cards from our participating restaurants.\n\n\n\nAnd\, as an added discount\, starting November 16th through November 27th Wilson Bank $5 Small Biz Bucks will be available to pick up at the Hermitage and Donelson branch locations. Shoppers may obtain one coupon per visit which will be redeemable only at the of our member participating businesses from November 28 - December 6. Shoppers do not need to be Wilson Bank customers to obtain a coupon. Limit one coupon per purchase at participating businesses.\n\n\n\nSo Shoppers Should:\n\n\n	Stop in at Wilson Bank & Trust Donelson or Hermitage branch locations to receive a $5 Wilson Bank Biz Buck (one coupon given per day)\n	Visit and spend your Biz Buck at any of the participating businesses from November 28 - Dec 6\n	Scan the QR code at the register\, ask for your receipt and upload it with the questionnaire!\n	Then do it all over again at another participating business!\n\n \n\nShop Small 2020 Participating Business Information\n\n \n\nDonelson:\n\n\n	615 Nursery and Garden Center\n	Caliber Coffee Co.\n	Mill Creek Mercantile\n	Take 5 Oil\n	The Nail Spot - Offering 15% off all services Nov 23 - Dec 31\n	Tidy Dog Salon\n\nMusic Valley/Opry Mills:\n\n\n	Amber Falls Winery\n	John A's Restaurant - Double your gift card value special\n	Music Valley Antiques\n	Nashville Coffees\n	Nashville Nightlife\n	Nashville Palace\n	Santa Fe Cattle Co.\n	Scoreboard Bar & Grill\n	Sweet City USA\n\nHermitage/Old Hickory:\n\n\n	Andrew Jackson's Hermitage Gift Shop\n	Flat Tire Diner\n	Hermitage Golf Course Pro Shop\n	Ingram Jewelers\n	Picture This Creative Framing & Gallery\n	Strike N' Spare Hermitage
X-ALT-DESC;FMTTYPE=text/html:<div style="text-align: center\;"><span style="font-size:18px\;"><strong>Attention Shoppers!</strong></span></div>\n\n<div style="text-align: center\;"><em><strong>Shop small this holiday season by supporting local businesses! </strong></em></div>\n<br />\nVisit and make a purchase at any of the participating businesses listed below (info coming soon) on November 28 - December 6\, keep your receipt and scan the QR code at the register to be entered into a $500 drawing. The more purchases you make at participating businesses\, the more likely you are to win! <u><em><strong>Limit ONE entry at each store with purchase. Receipt must be uploaded to qualify. Entries with duplicate receipts will be disqualified.</strong></em></u> There will be additional drawings held for gift cards from our participating restaurants.<br />\n<br />\nAnd\, as an added discount\, starting November 16th through November 27th Wilson Bank $5 Small Biz Bucks will be available to pick up at the <a href="https://business.donelsonhermitagechamber.com/list/member/wilson-bank-trust-1762" target="_blank">Hermitage</a> and <a href="https://business.donelsonhermitagechamber.com/list/member/wilson-bank-trust-donelson-1761" target="_blank">Donelson</a> branch locations. Shoppers may obtain <u>one coupon per visit</u> which will be redeemable only at the of our member participating businesses from November 28 - December 6. Shoppers <u>do not</u> need to be Wilson Bank customers to obtain a coupon. Limit&nbsp\;<u>one coupon per purchase</u> at participating businesses.<br />\n<br />\n<em><strong>So Shoppers Should:</strong></em>\n\n<ul>\n	<li>Stop in at Wilson Bank &amp\; Trust Donelson or Hermitage branch locations to receive a $5 Wilson Bank Biz Buck (one coupon given per day)</li>\n	<li>Visit and spend your Biz Buck at any of the participating businesses from November 28 - Dec 6</li>\n	<li>Scan the QR code at the register\, ask for your receipt and upload it with the questionnaire!</li>\n	<li>Then do it all over again at another participating business!</li>\n</ul>\n&nbsp\;\n\n<div style="text-align: center\;"><strong style="font-size: 18px\; text-align: center\;">Shop Small 2020&nbsp\;Participating Business Information</strong><br />\n&nbsp\;</div>\n\n<div><strong style="font-size: 18px\; text-align: center\;">Donelson:</strong></div>\n\n<ul>\n	<li><a href="https://www.facebook.com/615nurseryandgardencenter"><strong style="font-size: 18px\; text-align: center\;">615 Nursery and Garden Center</strong></a></li>\n	<li><a href="https://www.facebook.com/Calibercoffeeco" target="_blank"><strong style="font-size: 18px\; text-align: center\;">Caliber Coffee Co.</strong></a></li>\n	<li><a href="https://www.facebook.com/millcreekmercantile" target="_blank"><strong style="font-size: 18px\; text-align: center\;">Mill Creek Mercantile</strong></a></li>\n	<li><a href="https://www.facebook.com/Take5Nashville/" target="_blank"><strong style="font-size: 18px\; text-align: center\;">Take 5 Oil</strong></a></li>\n	<li><strong style="font-size: 18px\; text-align: center\;"><a href="https://thenailspotnashville.as.me/" target="_blank">The Nail Spot</a> - Offering 15% off all services Nov 23 - Dec 31</strong></li>\n	<li><a href="https://www.facebook.com/TidyDogSalon" target="_blank"><strong style="font-size: 18px\; text-align: center\;">Tidy Dog Salon</strong></a></li>\n</ul>\n<strong style="font-size: 18px\; text-align: center\;">Music Valley/Opry Mills:</strong>\n\n<ul>\n	<li><a href="https://www.facebook.com/amberfallsnashville" target="_blank"><strong style="font-size: 18px\; text-align: center\;">Amber Falls Winery</strong></a></li>\n	<li><a href="https://www.johnasnashville.com/shop?fbclid=IwAR2bJBS07zJgdjftk6lmuYvsiCyYVGTkzhovEaeihu3P7QTGEfL4AbGRO9w" target="_blank"><strong style="font-size: 18px\; text-align: center\;">John A&#39\;s Restaurant - Double your gift card value special</strong></a></li>\n	<li><a href="https://www.facebook.com/MusicValleyAntiques/" target="_blank"><strong style="font-size: 18px\; text-align: center\;">Music Valley Antiques</strong></a></li>\n	<li><a href="https://www.facebook.com/NashCoffees" target="_blank"><strong style="font-size: 18px\; text-align: center\;">Nashville Coffees</strong></a></li>\n	<li><a href="https://www.facebook.com/pages/Nashville-Nightlife-Dinner-Theatre/353169925097760" target="_blank"><strong style="font-size: 18px\; text-align: center\;">Nashville Nightlife</strong></a></li>\n	<li><a href="https://www.facebook.com/TheNashvillePalace" target="_blank"><strong style="font-size: 18px\; text-align: center\;">Nashville Palace</strong></a></li>\n	<li><a href="https://www.facebook.com/santafenashville"><strong style="font-size: 18px\; text-align: center\;">Santa Fe Cattle Co.</strong></a></li>\n	<li><a href="https://www.facebook.com/ScoreboardNashville" target="_blank"><strong style="font-size: 18px\; text-align: center\;">Scoreboard Bar &amp\; Grill</strong></a></li>\n	<li><a href="https://www.facebook.com/SweetCityUSA" target="_blank"><strong style="font-size: 18px\; text-align: center\;">Sweet City USA</strong></a></li>\n</ul>\n<strong style="font-size: 18px\; text-align: center\;">Hermitage/Old Hickory:</strong>\n\n<ul>\n	<li><a href="https://www.facebook.com/7thpresident" target="_blank"><strong style="font-size: 18px\; text-align: center\;">Andrew Jackson&#39\;s Hermitage Gift Shop</strong></a></li>\n	<li><a href="https://www.facebook.com/FlatTireDiner" target="_blank"><strong style="font-size: 18px\; text-align: center\;">Flat Tire Diner</strong></a></li>\n	<li><strong style="font-size: 18px\; text-align: center\;"><a href="http://www.facebook.com/hermitage.golfcourse.5" target="_blank">Hermitage Golf Cours</a></strong><a href="http://www.facebook.com/hermitage.golfcourse.5" target="_blank"><strong style="font-size: 18px\; text-align: center\;">e Pro Shop</strong></a></li>\n	<li><a href="https://www.facebook.com/ingramjewelers" target="_blank"><strong style="font-size: 18px\; text-align: center\;">Ingram Jewelers</strong></a></li>\n	<li><a href="https://www.facebook.com/picturethishermitage" target="_blank"><strong style="font-size: 18px\; text-align: center\;">Picture This Creative Framing &amp\; Gallery</strong></a></li>\n	<li><a href="https://www.facebook.com/HermitageSS" target="_blank"><strong style="font-size: 18px\; text-align: center\;">Strike N&#39\; Spare Hermitage</strong></a></li>\n</ul>\n\n<div style="text-align: center\;">&nbsp\;</div>\n\n<div style="text-align: center\;">&nbsp\;</div>\n\n<div style="text-align: center\;">&nbsp\;</div>\n
LOCATION:Participating Member Businesses in the Donelson\, Hermitage\, Music Valley\, City Side\, Old Hickory area
UID:e.2870.1986
SEQUENCE:3
DTSTAMP:20260420T173444Z
URL:https://business.donelsonhermitagechamber.com/events/details/shop-small-y-all-all-season-long-1986
END:VEVENT

END:VCALENDAR
