BEGIN:VCALENDAR
VERSION:2.0
PRODID:-//ChamberMaster//Event Calendar 2.0//EN
METHOD:PUBLISH
X-PUBLISHED-TTL:P3D
REFRESH-INTERVAL:P3D
CALSCALE:GREGORIAN
BEGIN:VEVENT
DTSTART:20230401T150000Z
DTEND:20230401T220000Z
X-MICROSOFT-CDO-ALLDAYEVENT:FALSE
SUMMARY:Retro Vibe Grand Opening Celebration
DESCRIPTION:Retro Vibe is opening a storefront! Stop by on April 1 for the party featuring giveaways and discounts all day. Find unique vintage home decor as well as trendy gift items inside.\n\nDaddy's Dogs Nashville will be onsite slinging their hot dogs from 11-2! Stop by and grab a dog or two.\n\nThe party begins at 10am! Plenty of parking around the building at 2517 Lebanon Pike in Donelson (Located next to Caliber Coffee).
X-ALT-DESC;FMTTYPE=text/html:<p>Retro Vibe is opening a storefront! Stop by on April 1 for the party featuring giveaways and discounts all day. Find unique vintage home decor as well as trendy gift items inside.</p>\n\n<p>Daddy&#39\;s Dogs Nashville will be onsite slinging their hot dogs from 11-2! Stop by and grab a dog or two.</p>\n\n<p>The party begins at 10am! Plenty of parking around the building at 2517 Lebanon Pike in Donelson (Located next to Caliber Coffee).</p>\n
LOCATION:2517 Lebanon Road\, Suite 200B. Enter through the door on the left front of the building. Parking on the sides and behind the building.
UID:e.2870.2134
SEQUENCE:3
DTSTAMP:20260420T104007Z
URL:https://business.donelsonhermitagechamber.com/events/details/retro-vibe-grand-opening-celebration-2134
END:VEVENT

END:VCALENDAR
