BEGIN:VCALENDAR
VERSION:2.0
PRODID:-//ChamberMaster//Event Calendar 2.0//EN
METHOD:PUBLISH
X-PUBLISHED-TTL:P3D
REFRESH-INTERVAL:P3D
CALSCALE:GREGORIAN
BEGIN:VEVENT
DTSTART:20200514T163000Z
DTEND:20200514T180000Z
X-MICROSOFT-CDO-ALLDAYEVENT:FALSE
SUMMARY:POSTPONED - General Membership Meeting
DESCRIPTION:We are working on details to host a virtual meeting for membership at a later date in May. We will be sure to email membership and update the calendar when those details are finalized. Thank you.\n\n\n\n\n\nJoin us for networking and learning more about the Chamber!
X-ALT-DESC;FMTTYPE=text/html:<strong><span style="font-size:16px\;"><span style="background-color:#FFFF00\;">We are working on details to host a virtual meeting for membership at a later date in May. We will be sure to email membership and update the calendar when those details are finalized. Thank you.</span></span></strong><br />\n<br />\n<br />\nJoin us for networking and learning more about the Chamber!&nbsp\;
LOCATION:Hotel Preston 733 Briley Pkwy Nashville\, TN 37217
UID:e.2870.1490
SEQUENCE:3
DTSTAMP:20260422T200445Z
URL:https://business.donelsonhermitagechamber.com/events/details/postponed-general-membership-meeting-1490
END:VEVENT

END:VCALENDAR
