BEGIN:VCALENDAR
VERSION:2.0
PRODID:-//ChamberMaster//Event Calendar 2.0//EN
METHOD:PUBLISH
X-PUBLISHED-TTL:P3D
REFRESH-INTERVAL:P3D
CALSCALE:GREGORIAN
BEGIN:VEVENT
DTSTART:20200520T133000Z
DTEND:20200520T143000Z
X-MICROSOFT-CDO-ALLDAYEVENT:FALSE
SUMMARY:POSTPONED - Economic Development Committee Meeting
DESCRIPTION:All in-person committee meetings will be postponed until we reach the appropriate phase in Mayor Cooper's "Roadmap to Reopen Nashville". \n\n\n\n\n\nThe Donelson Hermitage Chamber of Commerce created an Economic Advocacy & Development Committee to develop and strengthen relationships and information sharing with centers of influence\, government officials\, businesses\, non-profits and other neighboring organizations to promote the growth of local business and advocate for the best interests of our community. \n\n\n\nThis is an open meeting and takes place at HJL Management every 3rd Wednesday of the month.
X-ALT-DESC;FMTTYPE=text/html:<span style="font-size:16px\;"><strong>All in-person committee meetings will be postponed until we reach the appropriate phase in Mayor Cooper&#39\;s &quot\;Roadmap to Reopen Nashville&quot\;.&nbsp\;</strong></span><br />\n<br />\n<br />\nThe Donelson Hermitage Chamber of Commerce created an Economic Advocacy &amp\; Development Committee to develop and strengthen relationships and information sharing with centers of influence\, government officials\, businesses\, non-profits and other neighboring organizations to promote the growth of local business and advocate for the best interests of our community.&nbsp\;<br />\n<br />\nThis is an open meeting and takes place at HJL Management every 3rd Wednesday of the month.&nbsp\;
LOCATION:HJL Management 208 McGavock Pike Nashville\, TN 37214
UID:e.2870.1901
SEQUENCE:3
DTSTAMP:20260422T220918Z
URL:https://business.donelsonhermitagechamber.com/events/details/postponed-economic-development-committee-meeting-1901
END:VEVENT

END:VCALENDAR
