BEGIN:VCALENDAR
VERSION:2.0
PRODID:-//ChamberMaster//Event Calendar 2.0//EN
METHOD:PUBLISH
X-PUBLISHED-TTL:P3D
REFRESH-INTERVAL:P3D
CALSCALE:GREGORIAN
BEGIN:VEVENT
DTSTART:20240111T180000Z
DTEND:20240111T190000Z
X-MICROSOFT-CDO-ALLDAYEVENT:FALSE
SUMMARY:Open House- Success Lab
DESCRIPTION:It's your chance to explore our awesome space and get a taste of what we have to offer. Whether you're a student\, a professional\, or just curious\, this event is perfect for you. Discover our state-of-the-art facilities\, meet our friendly staff\, have a chance to win a gift card. and learn about the amazing opportunities available to you. Don't miss out on this fantastic opportunity to see firsthand why Success Lab MJ is the place to be. Mark your calendars and get ready for an unforgettable experience!
X-ALT-DESC;FMTTYPE=text/html:It&#39\;s your chance to explore our awesome space and get a taste of what we have to offer. Whether you&#39\;re a student\, a professional\, or just curious\, this event is perfect for you. Discover our state-of-the-art facilities\, meet our friendly staff\, have a chance to win a gift card. and learn about the amazing opportunities available to you. Don&#39\;t miss out on this fantastic opportunity to see firsthand why Success Lab MJ is the place to be. Mark your calendars and get ready for an unforgettable experience!
LOCATION:1982 Providence Pkwy Suite 251
UID:e.2870.2199
SEQUENCE:3
DTSTAMP:20260419T171502Z
URL:https://business.donelsonhermitagechamber.com/events/details/open-house-success-lab-2199
END:VEVENT

END:VCALENDAR
