BEGIN:VCALENDAR
VERSION:2.0
PRODID:-//ChamberMaster//Event Calendar 2.0//EN
METHOD:PUBLISH
X-PUBLISHED-TTL:P3D
REFRESH-INTERVAL:P3D
CALSCALE:GREGORIAN
BEGIN:VEVENT
DTSTART;VALUE=DATE:20210218
DTEND;VALUE=DATE:20210220
TRANSP:TRANSPARENT
X-MICROSOFT-CDO-ALLDAYEVENT:TRUE
SUMMARY:Office Closed
DESCRIPTION:ATTENTION!\n\n\nNotice of Office Closure - Winter Weather Update\n\n\n\nDue to the recent winter weather in our area\, the Donelson Hermitage Chamber Office will be closed until road conditions are safe for our staff to return to the office. \n\n\n\nIf you have any questions\, please do not hesitate to reach out to our office via email at admin@d-hchamber.com.
X-ALT-DESC;FMTTYPE=text/html:<div style="text-align: center\;"><span style="font-size:20px\;"><strong><span style="font-size:26px\;">ATTENTION!</span></strong></span></div>\n<br />\n<span style="font-size:20px\;"><strong>Notice of Office Closure -&nbsp\;Winter Weather Update</strong></span><br />\n<br />\nDue to the recent winter weather in our area\, the Donelson Hermitage Chamber Office will be closed until road conditions are safe for our staff to return to the office.&nbsp\;<br />\n<br />\nIf you have any questions\, please do not hesitate to reach out to our office via email at admin@d-hchamber.com.&nbsp\;
LOCATION:
UID:e.2870.2011
SEQUENCE:3
DTSTAMP:20260422T050345Z
URL:https://business.donelsonhermitagechamber.com/events/details/office-closed-2011
END:VEVENT

END:VCALENDAR
