BEGIN:VCALENDAR
VERSION:2.0
PRODID:-//ChamberMaster//Event Calendar 2.0//EN
METHOD:PUBLISH
X-PUBLISHED-TTL:P3D
REFRESH-INTERVAL:P3D
CALSCALE:GREGORIAN
BEGIN:VEVENT
DTSTART:20230713T200000Z
DTEND:20230714T000000Z
X-MICROSOFT-CDO-ALLDAYEVENT:FALSE
SUMMARY:North Lake Animal Hospital Grand Opening and Ribbon Cutting
DESCRIPTION:North Lake Animal Hospital\n\nGrand Opening Party and Ribbon Cutting
X-ALT-DESC;FMTTYPE=text/html:North Lake Animal Hospital<br />\nGrand Opening Party and Ribbon Cutting
LOCATION:North Lake Animal Hospital 5552 Old Hickory Blvd Hermitage\, TN 37076
UID:e.2870.2172
SEQUENCE:3
DTSTAMP:20260420T033905Z
URL:https://business.donelsonhermitagechamber.com/events/details/north-lake-animal-hospital-grand-opening-and-ribbon-cutting-2172
END:VEVENT

END:VCALENDAR
