BEGIN:VCALENDAR
VERSION:2.0
PRODID:-//ChamberMaster//Event Calendar 2.0//EN
METHOD:PUBLISH
X-PUBLISHED-TTL:P3D
REFRESH-INTERVAL:P3D
CALSCALE:GREGORIAN
BEGIN:VEVENT
DTSTART:20190914T000000Z
DTEND:20190914T023000Z
X-MICROSOFT-CDO-ALLDAYEVENT:FALSE
SUMMARY:Music City Hayride show
DESCRIPTION:The Music City Hayride Show. on Friday September 13\, 2019. 7:00 PM-9:30PM $10.00 per person Children 12 and under get in free. Free Parking. Guest Performer: BARBARA FAIRCHILD Chuck Hancock Also\, performing is: Allen Karl Tammy Kendrick Jerry J Thomas Dean Holmen Layne Smith Terry Crabtree Russ Ritenour 100% of our ticket sales goes to our charities that we support for our VETERANS and those with alzheimer's and dementia. To get you tickets on line go to our website:www.musiccityhayride.net
X-ALT-DESC;FMTTYPE=text/html:The Music City Hayride Show. on Friday September 13\, 2019. 7:00 PM-9:30PM $10.00 per person Children 12 and under get in free. Free Parking. Guest Performer: BARBARA FAIRCHILD Chuck Hancock Also\, performing is: Allen Karl Tammy Kendrick Jerry J Thomas Dean Holmen Layne Smith Terry Crabtree Russ Ritenour 100% of our ticket sales goes to our charities that we support for our VETERANS and those with alzheimer&#39\;s and dementia. To get you tickets on line go to our website:www.musiccityhayride.net
LOCATION:Texas Troubadour Theatre 2416 Music Valley Dr. Donelson\, TN. 37214
UID:e.2870.1818
SEQUENCE:3
DTSTAMP:20260420T104312Z
URL:https://business.donelsonhermitagechamber.com/events/details/music-city-hayride-show-09-13-2019-1818
END:VEVENT

END:VCALENDAR
