BEGIN:VCALENDAR
VERSION:2.0
PRODID:-//ChamberMaster//Event Calendar 2.0//EN
METHOD:PUBLISH
X-PUBLISHED-TTL:P3D
REFRESH-INTERVAL:P3D
CALSCALE:GREGORIAN
BEGIN:VEVENT
DTSTART:20190924T230000Z
DTEND:20190925T000000Z
X-MICROSOFT-CDO-ALLDAYEVENT:FALSE
SUMMARY:Moving Through Transition
DESCRIPTION:Join Transitional Specialist Claire P Paul MHC\, MPS sharing thoughts and conversations for those caring for loved ones as they move through transition. Our gathering offers support and education to assist you in developing skills and strategies to manage stress and the challenges presented in helping elderly family members.
X-ALT-DESC;FMTTYPE=text/html:Join Transitional Specialist Claire P Paul MHC\, MPS sharing thoughts and conversations for those caring for loved ones as they move through transition. Our gathering offers support and education to assist you in developing skills and strategies to manage stress and the challenges presented in helping elderly family members.
LOCATION:4131 Andrew Jackson Parkway
UID:e.2870.1840
SEQUENCE:3
DTSTAMP:20260420T103737Z
URL:https://business.donelsonhermitagechamber.com/events/details/moving-through-transition-1840
END:VEVENT

END:VCALENDAR
