BEGIN:VCALENDAR
VERSION:2.0
PRODID:-//ChamberMaster//Event Calendar 2.0//EN
METHOD:PUBLISH
X-PUBLISHED-TTL:P3D
REFRESH-INTERVAL:P3D
CALSCALE:GREGORIAN
BEGIN:VEVENT
DTSTART;VALUE=DATE:20210531
DTEND;VALUE=DATE:20210601
TRANSP:TRANSPARENT
X-MICROSOFT-CDO-ALLDAYEVENT:TRUE
SUMMARY:Memorial Day Holiday - Office Closed
DESCRIPTION:Our office will be closed Monday May 31st 2021 in observance of Memorial Day.
X-ALT-DESC;FMTTYPE=text/html:<br />\n<span style="font-size:20px\;"><strong>Our office will be closed Monday May 31st 2021 in observance of Memorial Day.</strong></span>
LOCATION:
UID:e.2870.2051
SEQUENCE:3
DTSTAMP:20260422T012825Z
URL:https://business.donelsonhermitagechamber.com/events/details/memorial-day-holiday-office-closed-2051
END:VEVENT

END:VCALENDAR
