BEGIN:VCALENDAR
VERSION:2.0
PRODID:-//ChamberMaster//Event Calendar 2.0//EN
METHOD:PUBLISH
X-PUBLISHED-TTL:P3D
REFRESH-INTERVAL:P3D
CALSCALE:GREGORIAN
BEGIN:VEVENT
DTSTART:20230420T223000Z
DTEND:20230421T013000Z
X-MICROSOFT-CDO-ALLDAYEVENT:FALSE
SUMMARY:Melodies for McNeilly
DESCRIPTION:Melodies for McNeilly will be the signature fundraising event for McNeilly Center for Children in 2023. This exciting event will feature live music\, and an exceptional four-course meal\, all kicked off by a mocktail (specially curated juices) and social hour!\n\nThe event will be held at Dinner With Friends restaurant (1719 West End Ave.).\n\nTICKETS $125 Per Person \n\nPlease see our sponsorship opportunities for additional ticket options.  \n\n"MOCKTAIL" SOCIAL HOUR 5:30 - 6:30 PM \n\nPROGRAM & DINNER 6:30 - 8:30 PM \n\n*Complimentary valet and self-parking \n\nMenu:\n\nAppetizer - Bacon Wrapped Oyster Mushrooms or Lobster Egg Rolls\n\nSalad Options - Romaine Wedge or Chef Salad with Quail Eggs\n\nEntree - Verlasso Salmon or Free Range Chicken\n\nSides - Garlic Mashed Potatoes with Shrimp and Broccolini\n\nDessert - Chocolate Cake with Strawberries or Banana Parfait
X-ALT-DESC;FMTTYPE=text/html:<p>Melodies for McNeilly will be the signature fundraising event for McNeilly Center for Children in 2023.&nbsp\;This exciting event will feature live music\, and an exceptional four-course meal\, all kicked off by a mocktail (specially curated juices) and social hour!</p>\n\n<p>The event will be held at <a href="https://www.dinnerwithfriends.restaurant/" style="background: transparent\; text-decoration-line: none\; color: rgb(61\, 181\, 250)\; overflow-wrap: break-word\;">Dinner With Friends </a>restaurant (1719 West End Ave.).</p>\n\n<p>TICKETS $125 Per Person&nbsp\;</p>\n\n<p>Please see our <a href="https://secure.givelively.org/event/mcneilly-center-for-children/melodies-for-mcneilly-sponsorship-opportunities" style="background: transparent\; text-decoration-line: none\; color: rgb(61\, 181\, 250)\; overflow-wrap: break-word\;">sponsorship opportunities</a> for additional ticket options.&nbsp\;&nbsp\;</p>\n\n<p>&quot\;MOCKTAIL&quot\; SOCIAL HOUR 5:30 - 6:30 PM&nbsp\;</p>\n\n<p>PROGRAM &amp\; DINNER 6:30 - 8:30 PM&nbsp\;</p>\n\n<p>*Complimentary valet and self-parking&nbsp\;</p>\n\n<p>Menu:</p>\n\n<p>Appetizer - Bacon Wrapped Oyster Mushrooms or Lobster Egg Rolls</p>\n\n<p>Salad Options - Romaine Wedge or Chef Salad with Quail Eggs</p>\n\n<p>Entree - Verlasso Salmon or Free Range Chicken</p>\n\n<p>Sides - Garlic Mashed Potatoes with Shrimp and Broccolini</p>\n\n<p>Dessert - Chocolate Cake with Strawberries or Banana Parfait</p>\n
LOCATION:
UID:e.2870.2135
SEQUENCE:3
DTSTAMP:20260420T103754Z
URL:https://business.donelsonhermitagechamber.com/events/details/melodies-for-mcneilly-2135
END:VEVENT

END:VCALENDAR
