BEGIN:VCALENDAR
VERSION:2.0
PRODID:-//ChamberMaster//Event Calendar 2.0//EN
METHOD:PUBLISH
X-PUBLISHED-TTL:P3D
REFRESH-INTERVAL:P3D
CALSCALE:GREGORIAN
BEGIN:VEVENT
DTSTART:20230920T210000Z
DTEND:20230921T000000Z
X-MICROSOFT-CDO-ALLDAYEVENT:FALSE
SUMMARY:McKendree Village Ribbon Cutting and After Hours
DESCRIPTION:McKendree Village Ribbon Cutting for Newly remodeled Events Center\n\nand After Hours party
X-ALT-DESC;FMTTYPE=text/html:McKendree Village Ribbon Cutting for Newly remodeled Events Center<br />\nand After Hours party
LOCATION:McKendree Village 4347 Lebanon Rd Hermitage\, TN 37076
UID:e.2870.2183
SEQUENCE:3
DTSTAMP:20260420T001539Z
URL:https://business.donelsonhermitagechamber.com/events/details/mckendree-village-ribbon-cutting-and-after-hours-2183
END:VEVENT

END:VCALENDAR
