BEGIN:VCALENDAR
VERSION:2.0
PRODID:-//ChamberMaster//Event Calendar 2.0//EN
METHOD:PUBLISH
X-PUBLISHED-TTL:P3D
REFRESH-INTERVAL:P3D
CALSCALE:GREGORIAN
BEGIN:VEVENT
DTSTART:20190915T130000Z
DTEND:20190915T170000Z
X-MICROSOFT-CDO-ALLDAYEVENT:FALSE
SUMMARY:Lost Loon Triathlon
DESCRIPTION:Lost Loon Triathlon is a family-friendly event that encourages all ages to get outdoors\, be active and have fun. Teams bike 9 miles\, canoe 2 miles and trail run/walk 2 miles at Long Hunter State Park at their own pace and preferred distance. Our triathlon is untimed and awards are based on enthusiasm versus speed. Costumes and team themes are optional but lots of fun. All proceeds benefit the Tennessee Scenic Rivers Association (TSRA) and support river conservation projects. Team fee of $85 includes canoe rental\, 2 adult race shirts\, lunch for everyone. Teams can bring their own tandem boat if they have one. Park limits 3 adults per canoe. Teams must bring their own bikes and bike helmets. Pre-registration required online in advance at www.lostloons.com. Follow us on Facebook @lostloontriathlon.
X-ALT-DESC;FMTTYPE=text/html:Lost Loon Triathlon is a family-friendly event that encourages all ages to get outdoors\, be active and have fun. Teams bike 9 miles\, canoe 2 miles and trail run/walk 2 miles at Long Hunter State Park at their own pace and preferred distance. Our triathlon is untimed and awards are based on enthusiasm versus speed. Costumes and team themes are optional but lots of fun. All proceeds benefit the Tennessee Scenic Rivers Association (TSRA) and support river conservation projects. Team fee of $85 includes canoe rental\, 2 adult race shirts\, lunch for everyone. Teams can bring their own tandem boat if they have one. Park limits 3 adults per canoe. Teams must bring their own bikes and bike helmets. Pre-registration required online in advance at www.lostloons.com. Follow us on Facebook @lostloontriathlon.
LOCATION:Long Hunter State Park - Couchville Lake 2910 Hobson Pike Hermitage\, TN 37076
UID:e.2870.1812
SEQUENCE:3
DTSTAMP:20260420T085757Z
URL:https://business.donelsonhermitagechamber.com/events/details/lost-loon-triathlon-1812
END:VEVENT

END:VCALENDAR
