BEGIN:VCALENDAR
VERSION:2.0
PRODID:-//ChamberMaster//Event Calendar 2.0//EN
METHOD:PUBLISH
X-PUBLISHED-TTL:P3D
REFRESH-INTERVAL:P3D
CALSCALE:GREGORIAN
BEGIN:VEVENT
DTSTART:20201112T173000Z
DTEND:20201112T190000Z
X-MICROSOFT-CDO-ALLDAYEVENT:FALSE
SUMMARY:In-person GMM - November
DESCRIPTION:November General Membership Meeting\n\nThursday\, 11/12/2020 at 11:30 a.m.\n\nHilton Nashville Airport Hotel \n\n\n\nJoin us at the Hilton Nashville Airport Hotel on Thursday\, November 12th\, at 11:30 a.m. for an in-person luncheon*. Our topic will focus on Small Business.\n\n\n\n*This luncheon will be pre-registration only and limited to 50 guests to adhere to social distancing guidelines. \n\n\n\nIf you would like to view the GMM program information virtually\, please click HERE.
X-ALT-DESC;FMTTYPE=text/html:<div style="text-align: center\;"><span style="font-size:16px\;"><strong>November General Membership Meeting<br />\nThursday\, 11/12/2020 at 11:30 a.m.<br />\nHilton Nashville Airport Hotel&nbsp\;</strong><br />\n<br />\n<span style="font-size:14px\;">Join us at the Hilton Nashville Airport Hotel on Thursday\, November 12th\, at 11:30 a.m. for an in-person luncheon*. Our topic will focus on Small Business.<br />\n<br />\n*<em><strong>This luncheon will be pre-registration only and limited to 50 guests to adhere to social distancing guidelines.&nbsp\;</strong></em><br />\n<br />\nIf you would like to view the GMM program information virtually\, <a href="https://business.donelsonhermitagechamber.com/events/details/virtual-gmm-november-1982?calendarMonth=2020-11-01" target="_blank">please click HERE</a>.</span></span><br />\n<br />\n&nbsp\;</div>\n
LOCATION:Hilton Nashville Airport Hotel 2200 Elm Hill Pike Nashville\, TN 37214
UID:e.2870.1496
SEQUENCE:3
DTSTAMP:20260420T155507Z
URL:https://business.donelsonhermitagechamber.com/events/details/in-person-gmm-november-1496
END:VEVENT

END:VCALENDAR
