BEGIN:VCALENDAR
VERSION:2.0
PRODID:-//ChamberMaster//Event Calendar 2.0//EN
METHOD:PUBLISH
X-PUBLISHED-TTL:P3D
REFRESH-INTERVAL:P3D
CALSCALE:GREGORIAN
BEGIN:VEVENT
DTSTART:20240125T210000Z
DTEND:20240125T230000Z
X-MICROSOFT-CDO-ALLDAYEVENT:FALSE
SUMMARY:Hattie Jane's Creamery Ribbon Cutting
DESCRIPTION:Grand Opening / Ribbon Cutting for Hattie Jane's Creamery
X-ALT-DESC;FMTTYPE=text/html:Grand Opening / Ribbon Cutting for Hattie Jane&#39\;s Creamery
LOCATION:2418 Lebanon Pike Nashville\, TN 37214
UID:e.2870.2215
SEQUENCE:3
DTSTAMP:20260419T185851Z
URL:https://business.donelsonhermitagechamber.com/events/details/hattie-jane-s-creamery-ribbon-cutting-2215
END:VEVENT

END:VCALENDAR
