BEGIN:VCALENDAR
VERSION:2.0
PRODID:-//ChamberMaster//Event Calendar 2.0//EN
METHOD:PUBLISH
X-PUBLISHED-TTL:P3D
REFRESH-INTERVAL:P3D
CALSCALE:GREGORIAN
BEGIN:VEVENT
DTSTART:20210406T163000Z
DTEND:20210406T173000Z
X-MICROSOFT-CDO-ALLDAYEVENT:FALSE
SUMMARY:Google My Business 101
DESCRIPTION:Google My Business 101\n\nTuesday April 6 2021\n\n11:30 a.m. - 12: 30 p.m. \n\n\n\n\n\nJoin the Marketing/Public Relations Committee as they focus on one of the most important things you can do as a business.\n\n\n\nGoogle My Business helps let people know what you do\, hours of operation and lets you post updates and offers.
X-ALT-DESC;FMTTYPE=text/html:<span style="color:black\;"><span style="font-family:verdana\,sans-serif\;"><span style="font-size:10pt\;"><span style="font-size:20px\;"><strong>Google My Business 101<br />\n<span style="font-size:16px\;">Tuesday April 6 2021</span><br />\n<span style="font-size:16px\;">11:30 a.m. - 12: 30 p.m.&nbsp\;</span></strong></span></span></span></span><br />\n<br />\n<br />\n<span style="color:black\;"><span style="font-family:verdana\,sans-serif\;"><span style="font-size:10pt\;">Join the Marketing/Public Relations Committee as they focus on&nbsp\;</span></span></span><span style="color: rgb(0\, 0\, 0)\; font-family: Verdana\, sans-serif\; font-size: 13.3333px\;">one of the most important things you can do as a business.<br />\n<br />\nGoogle My Business helps let people know what you do\, hours of operation and lets you post updates and offers.</span>
LOCATION:Virtual Zoom
UID:e.2870.2015
SEQUENCE:3
DTSTAMP:20260422T032722Z
URL:https://business.donelsonhermitagechamber.com/events/details/google-my-business-101-2015
END:VEVENT

END:VCALENDAR
