BEGIN:VCALENDAR
VERSION:2.0
PRODID:-//ChamberMaster//Event Calendar 2.0//EN
METHOD:PUBLISH
X-PUBLISHED-TTL:P3D
REFRESH-INTERVAL:P3D
CALSCALE:GREGORIAN
BEGIN:VEVENT
DTSTART:20200910T170000Z
DTEND:20200910T180000Z
X-MICROSOFT-CDO-ALLDAYEVENT:FALSE
SUMMARY:GMM - National Museum of African American Music
DESCRIPTION:Join the Donelson Hermitage Chamber for a virtual discussion with the President & CEO of the National Museum of African American Music\, H. Beecher Hicks\, III\n\n\n\n\n\nH. Beecher Hicks\, III\n\nPresident & CEO\n\n\n\nH. Beecher Hicks III's professional experiences have included work in the private\, public and nonprofit sectors\, where he has focused on building enterprises as a consultant\, banker\, investor and operating executive. Henry is now the president and CEO of the National Museum of African American Music (NMAAM). His relationship with the project began in 2010 when he began serving on NMAAM's board before becoming CEO in 2013. From traditional African drum beats to modern hip-hop\, the 56\,000-square-foot experiential museum will highlight the many contributions African American have me to American music and culture. \n\n\n\nTo view Mr. Hick's full bio\, please visit nmaam.org here. \n\n\n\nAbout the National Museum of African American Music\n\n\n\nThe National Museum of African American Music is the premier global destination for music lovers of all generations and inspires\, educates\, and transforms your appreciation of American music.\n\n\n\nNMAAM is the only museum dedicated to preserving and celebrating the many music genres created\, influenced\, and inspired by African Americans. The museum's expertly-curated collections will share the story of the American soundtrack by integrating history and interactive technology to bring the musical heroes of the past into the present. \n\n\n\nNMAAM's mission is to educate the world\, preserve the legacy\, and celebrate the central role African Americans play in creating the American soundtrack.
X-ALT-DESC;FMTTYPE=text/html:<span style="font-size:18px\;"><strong>Join the Donelson Hermitage Chamber for a virtual discussion with the President &amp\; CEO of the National Museum of African American Music\, H. Beecher Hicks\, III<br />\n<br />\n<br />\nH. Beecher Hicks\, III</strong><br />\n<span style="font-size:16px\;"><strong>President &amp\; CEO</strong></span><br />\n<br />\n<span style="font-size:14px\;">H. Beecher Hicks III&#39\;s professional experiences have included work in the private\, public and nonprofit sectors\, where he has focused on building enterprises as a consultant\, banker\, investor and operating executive. Henry is now the president and CEO of the National Museum of African American Music (NMAAM). His relationship with the project began in 2010 when he began serving on NMAAM&#39\;s board before becoming CEO in 2013. From traditional African drum beats to modern hip-hop\, the 56\,000-square-foot experiential museum will highlight the many contributions African American have me to American music and culture.&nbsp\;<br />\n<br />\nTo view Mr. Hick&#39\;s full bio\, <a href="https://nmaam.org/h-hicks/#" target="_blank">please visit nmaam.org here.</a>&nbsp\;</span><br />\n<br />\n<strong>About the National Museum of African American Music</strong></span><br />\n<br />\n<span style="font-size:14px\;">The National Museum of African American Music is the premier global destination for music lovers of all generations and inspires\, educates\, and transforms your appreciation of American music.<br />\n<br />\nNMAAM is the only museum dedicated to preserving and celebrating the many music genres created\, influenced\, and inspired by African Americans. The museum&#39\;s expertly-curated collections will share the story of the American soundtrack by integrating history and interactive technology to bring the musical heroes of the past into the present.&nbsp\;<br />\n<br />\nNMAAM&#39\;s mission is to educate the world\, preserve the legacy\, and celebrate the central role African Americans play in creating the American soundtrack.</span>
LOCATION:Zoom Meeting details provided in registration confirmation.
UID:e.2870.1494
SEQUENCE:3
DTSTAMP:20260420T173741Z
URL:https://business.donelsonhermitagechamber.com/events/details/gmm-national-museum-of-african-american-music-1494
END:VEVENT

END:VCALENDAR
