BEGIN:VCALENDAR
VERSION:2.0
PRODID:-//ChamberMaster//Event Calendar 2.0//EN
METHOD:PUBLISH
X-PUBLISHED-TTL:P3D
REFRESH-INTERVAL:P3D
CALSCALE:GREGORIAN
BEGIN:VEVENT
DTSTART:20221110T173000Z
DTEND:20221110T190000Z
X-MICROSOFT-CDO-ALLDAYEVENT:FALSE
SUMMARY:General Membership Meeting
DESCRIPTION:Join us for networking and learning more about the Chamber! \n\nOur program this month is\n\nSpotlight on Small Business
X-ALT-DESC;FMTTYPE=text/html:Join us for networking and learning more about the Chamber!&nbsp\;<br />\nOur program this month is<br />\nSpotlight on Small Business
LOCATION:Party Fowl Donelson 2620 Lebanon Pk Nashville\, TN 37214
UID:e.2870.1520
SEQUENCE:3
DTSTAMP:20260420T181325Z
URL:https://business.donelsonhermitagechamber.com/events/details/general-membership-meeting-11-10-2022-1520
END:VEVENT

END:VCALENDAR
