BEGIN:VCALENDAR
VERSION:2.0
PRODID:-//ChamberMaster//Event Calendar 2.0//EN
METHOD:PUBLISH
X-PUBLISHED-TTL:P3D
REFRESH-INTERVAL:P3D
CALSCALE:GREGORIAN
BEGIN:VEVENT
DTSTART:20210909T163000Z
DTEND:20210909T180000Z
X-MICROSOFT-CDO-ALLDAYEVENT:FALSE
SUMMARY:General Membership Meeting
DESCRIPTION:Join us for networking and learning more about the Chamber!
X-ALT-DESC;FMTTYPE=text/html:Join us for networking and learning more about the Chamber!&nbsp\;
LOCATION:Bavarian Bierhaus 121 Opry Mills Drive Suite 315 Nashville\, TN 37214
UID:e.2870.1506
SEQUENCE:3
DTSTAMP:20260421T184543Z
URL:https://business.donelsonhermitagechamber.com/events/details/general-membership-meeting-09-09-2021-1506
END:VEVENT

END:VCALENDAR
