BEGIN:VCALENDAR
VERSION:2.0
PRODID:-//ChamberMaster//Event Calendar 2.0//EN
METHOD:PUBLISH
X-PUBLISHED-TTL:P3D
REFRESH-INTERVAL:P3D
CALSCALE:GREGORIAN
BEGIN:VEVENT
DTSTART:20220811T163000Z
DTEND:20220811T180000Z
X-MICROSOFT-CDO-ALLDAYEVENT:FALSE
SUMMARY:General Membership Meeting
DESCRIPTION:Join us as we welcome the Tennessee Titans with a sports update\n\nincluding information about the proposed new stadium.
X-ALT-DESC;FMTTYPE=text/html:Join us as we welcome the Tennessee Titans with a sports update<br />\nincluding information about the proposed new stadium.
LOCATION:Opry Mills Mall Nashville TN 37214
UID:e.2870.1517
SEQUENCE:3
DTSTAMP:20260420T233642Z
URL:https://business.donelsonhermitagechamber.com/events/details/general-membership-meeting-08-11-2022-1517
END:VEVENT

END:VCALENDAR
