BEGIN:VCALENDAR
VERSION:2.0
PRODID:-//ChamberMaster//Event Calendar 2.0//EN
METHOD:PUBLISH
X-PUBLISHED-TTL:P3D
REFRESH-INTERVAL:P3D
CALSCALE:GREGORIAN
BEGIN:VEVENT
DTSTART:20230810T163000Z
DTEND:20230810T180000Z
X-MICROSOFT-CDO-ALLDAYEVENT:FALSE
SUMMARY:General Membership Meeting
DESCRIPTION:Register now for the August Member Meeting & Luncheon.\n\nOur Guest Speaker will be Monica Fawknotson\, Executive Director\n\nof the Metro Nashville Sports Authority who will be bringing us\n\nup to speed on all things "SPORTS".
X-ALT-DESC;FMTTYPE=text/html:<span style="color:#000000"><strong>Register now for the August Member Meeting &amp\; Luncheon.<br />\nOur Guest Speaker will be Monica Fawknotson\, Executive Director<br />\nof the Metro Nashville Sports Authority who will be bringing us<br />\nup to speed on all things &quot\;SPORTS&quot\;.</strong></span>
LOCATION:Party Fowl Donelson (Upstairs) 2620 Lebanon Pike Nashville\, TN 37214
UID:e.2870.1529
SEQUENCE:3
DTSTAMP:20260420T013235Z
URL:https://business.donelsonhermitagechamber.com/events/details/general-membership-meeting-08-10-2023-1529
END:VEVENT

END:VCALENDAR
