BEGIN:VCALENDAR
VERSION:2.0
PRODID:-//ChamberMaster//Event Calendar 2.0//EN
METHOD:PUBLISH
X-PUBLISHED-TTL:P3D
REFRESH-INTERVAL:P3D
CALSCALE:GREGORIAN
BEGIN:VEVENT
DTSTART:20230608T163000Z
DTEND:20230608T180000Z
X-MICROSOFT-CDO-ALLDAYEVENT:FALSE
SUMMARY:General Membership Meeting
DESCRIPTION:Join us in welcoming CEO of Nashville Convention and Visitors Corp\, Butch Spyridon as our\n\nJune Chamber Member Meeting & Luncheon Guest Speaker.
X-ALT-DESC;FMTTYPE=text/html:Join us in welcoming CEO of Nashville Convention and Visitors Corp\, Butch Spyridon as our<br />\nJune Chamber Member Meeting &amp\; Luncheon Guest Speaker.
LOCATION:The Nashville Palace 2611 McGavock Pike Nashville\, TN 37214
UID:e.2870.1527
SEQUENCE:3
DTSTAMP:20260420T064904Z
URL:https://business.donelsonhermitagechamber.com/events/details/general-membership-meeting-06-08-2023-1527
END:VEVENT

END:VCALENDAR
