BEGIN:VCALENDAR
VERSION:2.0
PRODID:-//ChamberMaster//Event Calendar 2.0//EN
METHOD:PUBLISH
X-PUBLISHED-TTL:P3D
REFRESH-INTERVAL:P3D
CALSCALE:GREGORIAN
BEGIN:VEVENT
DTSTART:20270114T173000Z
DTEND:20270114T190000Z
X-MICROSOFT-CDO-ALLDAYEVENT:FALSE
SUMMARY:General Membership Meeting
DESCRIPTION:Join us for networking and learning more about the Chamber!
X-ALT-DESC;FMTTYPE=text/html:Join us for networking and learning more about the Chamber!&nbsp\;
LOCATION:The Inn at Opryland 2401 Music Valley Drive
UID:e.2870.1570
SEQUENCE:3
DTSTAMP:20260420T201158Z
URL:https://business.donelsonhermitagechamber.com/events/details/general-membership-meeting-01-14-2027-1570
END:VEVENT

END:VCALENDAR
