BEGIN:VCALENDAR
VERSION:2.0
PRODID:-//ChamberMaster//Event Calendar 2.0//EN
METHOD:PUBLISH
X-PUBLISHED-TTL:P3D
REFRESH-INTERVAL:P3D
CALSCALE:GREGORIAN
BEGIN:VEVENT
DTSTART:20240111T173000Z
DTEND:20240111T190000Z
X-MICROSOFT-CDO-ALLDAYEVENT:FALSE
SUMMARY:General Membership Meeting
DESCRIPTION:Join us for networking and learning more about the Chamber\, it's committees\, and how you can get involved!
X-ALT-DESC;FMTTYPE=text/html:Join us for networking and learning more about the Chamber\, it&#39\;s committees\, and how you can get involved!&nbsp\;
LOCATION:Graco Building McGavock Pike (behind McDonald's and the Kroger Fuel Station)
UID:e.2870.1534
SEQUENCE:3
DTSTAMP:20260419T191142Z
URL:https://business.donelsonhermitagechamber.com/events/details/general-membership-meeting-01-11-2024-1534
END:VEVENT

END:VCALENDAR
