BEGIN:VCALENDAR
VERSION:2.0
PRODID:-//ChamberMaster//Event Calendar 2.0//EN
METHOD:PUBLISH
X-PUBLISHED-TTL:P3D
REFRESH-INTERVAL:P3D
CALSCALE:GREGORIAN
BEGIN:VEVENT
DTSTART:20210224T143000Z
DTEND:20210224T153000Z
X-MICROSOFT-CDO-ALLDAYEVENT:FALSE
SUMMARY:Economic Development Committee Meeting
DESCRIPTION:The Donelson Hermitage Chamber of Commerce created an Economic Advocacy & Development Committee to develop and strengthen relationships and information sharing with centers of influence\, government officials\, businesses\, non-profits and other neighboring organizations to promote the growth of local business and advocate for the best interests of our community. \n\n\n\nThis meeting is open to members and non-members of the Donelson Hermitage Chamber of Commerce. After completing your registration\, please review your confirmation email for meeting links and/or instructions.
X-ALT-DESC;FMTTYPE=text/html:The Donelson Hermitage Chamber of Commerce created an Economic Advocacy &amp\; Development Committee to develop and strengthen relationships and information sharing with centers of influence\, government officials\, businesses\, non-profits and other neighboring organizations to promote the growth of local business and advocate for the best interests of our community.&nbsp\;<br />\n<br />\nThis meeting is open to members and non-members of the Donelson Hermitage Chamber of Commerce. After completing your registration\, please review your confirmation email for meeting links and/or instructions.
LOCATION:Virtually via Zoom Link will be included in the registration confirmation email
UID:e.2870.2016
SEQUENCE:3
DTSTAMP:20260422T063606Z
URL:https://business.donelsonhermitagechamber.com/events/details/economic-development-committee-meeting-2016
END:VEVENT

END:VCALENDAR
