BEGIN:VCALENDAR
VERSION:2.0
PRODID:-//ChamberMaster//Event Calendar 2.0//EN
METHOD:PUBLISH
X-PUBLISHED-TTL:P3D
REFRESH-INTERVAL:P3D
CALSCALE:GREGORIAN
BEGIN:VEVENT
DTSTART:20211124T143000Z
DTEND:20211124T153000Z
X-MICROSOFT-CDO-ALLDAYEVENT:FALSE
SUMMARY:Economic Development Committee Meeting
DESCRIPTION:The Donelson Hermitage Chamber of Commerce created an Economic Advocacy & Development Committee to develop and strengthen relationships and information sharing with centers of influence\, government officials\, businesses\, non-profits and other neighboring organizations to promote the growth of local business and advocate for the best interests of our community. \n\n\n\nThis meeting is open to members and non-members of the Donelson Hermitage Chamber of Commerce.
X-ALT-DESC;FMTTYPE=text/html:The Donelson Hermitage Chamber of Commerce created an Economic Advocacy &amp\; Development Committee to develop and strengthen relationships and information sharing with centers of influence\, government officials\, businesses\, non-profits and other neighboring organizations to promote the growth of local business and advocate for the best interests of our community.&nbsp\;<br />\n<br />\nThis meeting is open to members and non-members of the Donelson Hermitage Chamber of Commerce.&nbsp\;
LOCATION:Holladay Properties 2710 Old Lebanon Rd\, Suite 5 Nashville\, TN 37214 (In Donelson Plaza)
UID:e.2870.2026
SEQUENCE:3
DTSTAMP:20260421T152546Z
URL:https://business.donelsonhermitagechamber.com/events/details/economic-development-committee-meeting-11-24-2021-2026
END:VEVENT

END:VCALENDAR
