BEGIN:VCALENDAR
VERSION:2.0
PRODID:-//ChamberMaster//Event Calendar 2.0//EN
METHOD:PUBLISH
X-PUBLISHED-TTL:P3D
REFRESH-INTERVAL:P3D
CALSCALE:GREGORIAN
BEGIN:VEVENT
DTSTART:20200923T133000Z
DTEND:20200923T143000Z
X-MICROSOFT-CDO-ALLDAYEVENT:FALSE
SUMMARY:Economic Development Committee Meeting
DESCRIPTION:Join us virtually for an Economic Advocacy & Development Committee Meeting via Zoom on Wednesday 9/23 at 8:30 a.m. Zoom details will be provided in your registration confirmation email.\n\n\n\nThe Donelson Hermitage Chamber of Commerce created an Economic Advocacy & Development Committee to develop and strengthen relationships and information sharing with centers of influence\, government officials\, businesses\, non-profits and other neighboring organizations to promote the growth of local business and advocate for the best interests of our community.
X-ALT-DESC;FMTTYPE=text/html:<strong><span style="font-size:18px\;">Join us virtually for an Economic Advocacy &amp\; Development Committee Meeting via Zoom on Wednesday 9/23 at 8:30 a.m. Zoom details will be provided in your registration confirmation email.</span></strong><br />\n<br />\nThe Donelson Hermitage Chamber of Commerce created an Economic Advocacy &amp\; Development Committee to develop and strengthen relationships and information sharing with centers of influence\, government officials\, businesses\, non-profits and other neighboring organizations to promote the growth of local business and advocate for the best interests of our community.&nbsp\;<br />\n&nbsp\;
LOCATION:Zoom Link details will be provided in registration confirmation email.
UID:e.2870.1905
SEQUENCE:3
DTSTAMP:20260420T173357Z
URL:https://business.donelsonhermitagechamber.com/events/details/economic-development-committee-meeting-09-16-2020-1905
END:VEVENT

END:VCALENDAR
