BEGIN:VCALENDAR
VERSION:2.0
PRODID:-//ChamberMaster//Event Calendar 2.0//EN
METHOD:PUBLISH
X-PUBLISHED-TTL:P3D
REFRESH-INTERVAL:P3D
CALSCALE:GREGORIAN
BEGIN:VEVENT
DTSTART:20230823T140000Z
DTEND:20230823T150000Z
X-MICROSOFT-CDO-ALLDAYEVENT:FALSE
SUMMARY:Economic and Community Development Meeting
DESCRIPTION:Economic and Community Development Meeting
X-ALT-DESC;FMTTYPE=text/html:<span style="color: rgb(34\, 34\, 34)\; font-family: &quot\;Google Sans&quot\;\, Roboto\, RobotoDraft\, Helvetica\, Arial\, sans-serif\; font-size: 19.6px\;">Economic and Community Development Meeting</span>
LOCATION:Holladay Properties - Nashville Office 2710 Old Lebanon Rd\, Ste 5 Nashville\, TN 37214
UID:e.2870.2177
SEQUENCE:3
DTSTAMP:20260420T032208Z
URL:https://business.donelsonhermitagechamber.com/events/details/economic-and-community-development-meeting-2177
END:VEVENT

END:VCALENDAR
