BEGIN:VCALENDAR
VERSION:2.0
PRODID:-//ChamberMaster//Event Calendar 2.0//EN
METHOD:PUBLISH
X-PUBLISHED-TTL:P3D
REFRESH-INTERVAL:P3D
CALSCALE:GREGORIAN
BEGIN:VEVENT
DTSTART:20200910T223000Z
DTEND:20200911T000000Z
X-MICROSOFT-CDO-ALLDAYEVENT:FALSE
SUMMARY:District 12 Virtual Rezoning Meeting: 4124 Central Pike
DESCRIPTION:Community Event\n\n\n\nDistrict 12 Metro Councilmember Rep Erin Evans will be hosting a virtual rezoning meeting for Case #2011SP-005-003\, the parcel located at 4124 Central Pike. \n\n \nIn 2011 this parcel was rezoned to to an SP that permitted mixed use development. In 2015 the SP was amended to permit a boat storage facility on the property as part of a mixed use development.\n\nToday\, the developer would like to revert back to the 2011 version of the SP (that included mixed use development) to remove the boat storage facility. This will only be a land use policy change at this time.\n \n\nPlease submit any questions to Councilmember Evans at erin.evans@nashville.gov
X-ALT-DESC;FMTTYPE=text/html:<span style="font-size:24px\;"><strong>Community Event</strong></span><br />\n<br />\n<span style="font-family:arial\;"><span style="font-size:14px\;">District 12 Metro Councilmember Rep Erin Evans will be hosting a virtual rezoning meeting for Case #2011SP-005-003\, the parcel located at 4124 Central Pike.&nbsp\;</span></span><br />\n&nbsp\;\n<div class="o9v6fnle cxmmr5t8 oygrvhab hcukyx3x c1et5uql" style="overflow-wrap: break-word\; margin: 0.5em 0px 0px\; font-family: &quot\;Segoe UI Historic&quot\;\, &quot\;Segoe UI&quot\;\, Helvetica\, Arial\, sans-serif\; color: rgb(5\, 5\, 5)\; font-size: 15px\;"><span style="font-family:arial\;"><span style="font-size:14px\;">In 2011 this parcel was rezoned to to an SP that permitted mixed use development. In 2015 the SP was amended to permit a boat storage facility on the property as part of a mixed use development.</span></span></div>\n\n<div class="o9v6fnle cxmmr5t8 oygrvhab hcukyx3x c1et5uql" style="overflow-wrap: break-word\; margin: 0.5em 0px 0px\; font-family: &quot\;Segoe UI Historic&quot\;\, &quot\;Segoe UI&quot\;\, Helvetica\, Arial\, sans-serif\; color: rgb(5\, 5\, 5)\; font-size: 15px\;"><span style="font-family:arial\;"><span style="font-size:14px\;">Today\, the developer would like to revert back to the 2011 version of the SP (that included mixed use development) to remove the boat storage facility. This will only be a land use policy change at this time.</span></span></div>\n<span style="font-size: 12px\;">&nbsp\;</span><br />\nPlease submit any questions to Councilmember Evans at erin.evans@nashville.gov&nbsp\;
LOCATION:Virtual Zoom Meeting
UID:e.2870.1944
SEQUENCE:3
DTSTAMP:20260420T173321Z
URL:https://business.donelsonhermitagechamber.com/events/details/district-12-virtual-rezoning-meeting-4124-central-pike-1944
END:VEVENT

END:VCALENDAR
