BEGIN:VCALENDAR
VERSION:2.0
PRODID:-//ChamberMaster//Event Calendar 2.0//EN
METHOD:PUBLISH
X-PUBLISHED-TTL:P3D
REFRESH-INTERVAL:P3D
CALSCALE:GREGORIAN
BEGIN:VEVENT
DTSTART:20200909T230000Z
DTEND:20200909T233000Z
X-MICROSOFT-CDO-ALLDAYEVENT:FALSE
SUMMARY:DHNA Neighborhood Conversations feat. Metro Council Dist 14 Rep Kevin Rhoten
DESCRIPTION:Community Event\n\n\n\nJoin the Donelson Hermitage Neighborhood Association for a Facebook Live event series of Neighborhood Conversations.\n\n\n\nStarting Wednesday Sep 9th\, the DHNA will feature Metro Council Dist. 14 Rep\, Kevin Rhoten. Councilmember Rhoten's discussion will focus on a new development in the Hermitage area.
X-ALT-DESC;FMTTYPE=text/html:<br />\n<span style="font-size:24px\;"><strong>Community Event</strong></span><br />\n<br />\nJoin the Donelson Hermitage Neighborhood Association for a Facebook Live event series of Neighborhood Conversations.<br />\n<br />\nStarting Wednesday Sep 9th\, the DHNA will feature Metro Council Dist. 14 Rep\, Kevin Rhoten. Councilmember Rhoten&#39\;s discussion will focus on a new development in the Hermitage area.&nbsp\;
LOCATION:Facebook Live
UID:e.2870.1943
SEQUENCE:3
DTSTAMP:20260420T155802Z
URL:https://business.donelsonhermitagechamber.com/events/details/dhna-neighborhood-conversations-feat-metro-council-dist-14-rep-kevin-rhoten-1943
END:VEVENT

END:VCALENDAR
