BEGIN:VCALENDAR
VERSION:2.0
PRODID:-//ChamberMaster//Event Calendar 2.0//EN
METHOD:PUBLISH
X-PUBLISHED-TTL:P3D
REFRESH-INTERVAL:P3D
CALSCALE:GREGORIAN
BEGIN:VEVENT
DTSTART:20200925T000000Z
DTEND:20200925T010000Z
X-MICROSOFT-CDO-ALLDAYEVENT:FALSE
SUMMARY:DHNA-Meet the Candidates
DESCRIPTION:DHNA Fall Forum Series - Meet the candidates running for Metro School Board - District 4
X-ALT-DESC;FMTTYPE=text/html:DHNA Fall Forum Series - Meet the candidates running for Metro School Board - District 4
LOCATION:DHNA Facebook Live
UID:e.2870.1975
SEQUENCE:3
DTSTAMP:20260420T155507Z
URL:https://business.donelsonhermitagechamber.com/events/details/dhna-meet-the-candidates-1975
END:VEVENT

END:VCALENDAR
