BEGIN:VCALENDAR
VERSION:2.0
PRODID:-//ChamberMaster//Event Calendar 2.0//EN
METHOD:PUBLISH
X-PUBLISHED-TTL:P3D
REFRESH-INTERVAL:P3D
CALSCALE:GREGORIAN
BEGIN:VEVENT
DTSTART:20210401T123000Z
DTEND:20210401T133000Z
X-MICROSOFT-CDO-ALLDAYEVENT:FALSE
SUMMARY:DHCC Board of Directors Monthly Meeting
DESCRIPTION:In-person Donelson Hermitage Chamber Board of Directors Monthly Meeting
X-ALT-DESC;FMTTYPE=text/html:In-person Donelson Hermitage Chamber Board of Directors Monthly Meeting
LOCATION:Party Fowl - Upstairs 2620 Lebanon Pike Nashville\, TN 37214
UID:e.2870.2040
SEQUENCE:3
DTSTAMP:20260422T033149Z
URL:https://business.donelsonhermitagechamber.com/events/details/dhcc-board-of-directors-monthly-meeting-2040
END:VEVENT

END:VCALENDAR
