BEGIN:VCALENDAR
VERSION:2.0
PRODID:-//ChamberMaster//Event Calendar 2.0//EN
METHOD:PUBLISH
X-PUBLISHED-TTL:P3D
REFRESH-INTERVAL:P3D
CALSCALE:GREGORIAN
BEGIN:VEVENT
DTSTART:20231018T220000Z
DTEND:20231019T000000Z
X-MICROSOFT-CDO-ALLDAYEVENT:FALSE
SUMMARY:DH hYPe After Hours
DESCRIPTION:Join the DH Chamber Young Professionals group\, DH hYPe\n\nfor a fun time of networking and information
X-ALT-DESC;FMTTYPE=text/html:Join the DH Chamber Young Professionals group\, DH hYPe<br />\nfor a fun time of networking and information
LOCATION:Opry Mills Mall
UID:e.2870.2197
SEQUENCE:3
DTSTAMP:20260419T235157Z
URL:https://business.donelsonhermitagechamber.com/events/details/dh-hype-after-hours-2197
END:VEVENT

END:VCALENDAR
