BEGIN:VCALENDAR
VERSION:2.0
PRODID:-//ChamberMaster//Event Calendar 2.0//EN
METHOD:PUBLISH
X-PUBLISHED-TTL:P3D
REFRESH-INTERVAL:P3D
CALSCALE:GREGORIAN
BEGIN:VEVENT
DTSTART:20230929T150000Z
DTEND:20230929T160000Z
X-MICROSOFT-CDO-ALLDAYEVENT:FALSE
SUMMARY:Cheetah Clean Auto Wash Grand Opening and Ribbon Cutting
DESCRIPTION:Cheetah Clean Auto Wash Grand Opening and Ribbon Cutting
X-ALT-DESC;FMTTYPE=text/html:Cheetah Clean Auto Wash Grand Opening and Ribbon Cutting
LOCATION:Cheetah Clean Auto Wash 510 Donelson Pike Nashville\, TN 37214
UID:e.2870.2188
SEQUENCE:3
DTSTAMP:20260420T020050Z
URL:https://business.donelsonhermitagechamber.com/events/details/cheetah-clean-auto-wash-grand-opening-and-ribbon-cutting-2188
END:VEVENT

END:VCALENDAR
