BEGIN:VCALENDAR
VERSION:2.0
PRODID:-//ChamberMaster//Event Calendar 2.0//EN
METHOD:PUBLISH
X-PUBLISHED-TTL:P3D
REFRESH-INTERVAL:P3D
CALSCALE:GREGORIAN
BEGIN:VEVENT
DTSTART:20210603T123000Z
DTEND:20210603T133000Z
X-MICROSOFT-CDO-ALLDAYEVENT:FALSE
SUMMARY:Chamber Board of Directors Monthly Meeting
DESCRIPTION:Monthly meeting of the Donelson-Hermitage Chamber of Commerce Board of Directors.\n\n\n\nPlease list in the comments section how you plan to attend the meeting as either "in-person" or "Zoom".
X-ALT-DESC;FMTTYPE=text/html:<br />\nMonthly meeting of the Donelson-Hermitage Chamber of Commerce Board of Directors.<br />\n<br />\nPlease list in the comments section how you plan to attend the meeting as either &quot\;<strong>in-person</strong>&quot\; or &quot\;<strong>Zoom</strong>&quot\;.&nbsp\;
LOCATION:Party Fowl - Donelson\; Upstairs 2620 Lebanon Pike Nashville\, TN 37214 or Via Zoom
UID:e.2870.1368
SEQUENCE:3
DTSTAMP:20260421T234344Z
URL:https://business.donelsonhermitagechamber.com/events/details/chamber-board-of-directors-monthly-meeting-06-03-2021-1368
END:VEVENT

END:VCALENDAR
