BEGIN:VCALENDAR
VERSION:2.0
PRODID:-//ChamberMaster//Event Calendar 2.0//EN
METHOD:PUBLISH
X-PUBLISHED-TTL:P3D
REFRESH-INTERVAL:P3D
CALSCALE:GREGORIAN
BEGIN:VEVENT
DTSTART:20200507T140000Z
DTEND:20200507T150000Z
X-MICROSOFT-CDO-ALLDAYEVENT:FALSE
SUMMARY:Chamber Board of Directors Monthly Meeting
DESCRIPTION:In accordance with social distancing orders for Davidson County\, we will be holding May's board meeting via Zoom conferencing call. Please register in order to receive email confirmation with link. \n\n\n\nMonthly meeting of the Donelson-Hermitage Chamber of Commerce Board of Directors
X-ALT-DESC;FMTTYPE=text/html:In accordance with social distancing orders for Davidson County\, we will be holding May&#39\;s board meeting via Zoom conferencing call. Please register in order to receive email confirmation with link.&nbsp\;<br />\n<br />\nMonthly meeting of the Donelson-Hermitage Chamber of Commerce Board of Directors
LOCATION:Wilson Bank & Trust Donelson Branch Zoom Conference Call
UID:e.2870.1355
SEQUENCE:3
DTSTAMP:20260422T200751Z
URL:https://business.donelsonhermitagechamber.com/events/details/chamber-board-of-directors-monthly-meeting-05-07-2020-1355
END:VEVENT

END:VCALENDAR
