BEGIN:VCALENDAR
VERSION:2.0
PRODID:-//ChamberMaster//Event Calendar 2.0//EN
METHOD:PUBLISH
X-PUBLISHED-TTL:P3D
REFRESH-INTERVAL:P3D
CALSCALE:GREGORIAN
BEGIN:VEVENT
DTSTART:20210506T123000Z
DTEND:20210506T133000Z
X-MICROSOFT-CDO-ALLDAYEVENT:FALSE
SUMMARY:Chamber Board of Directors Monthly Meeting
DESCRIPTION:Monthly meeting of the Donelson-Hermitage Chamber of Commerce Board of Directors. Please note that this is a hybrid meeting option. So we know who to expect\, please list in the comments of your registration whether you'll be joining us in-person or virtually.
X-ALT-DESC;FMTTYPE=text/html:Monthly meeting of the Donelson-Hermitage Chamber of Commerce Board of Directors. Please note that this is a hybrid meeting option. So we know who to expect\, please list in the comments of your registration whether you&#39\;ll be joining us in-person or virtually.
LOCATION:Virtual: Zoom In-Person: Party Fowl-Donelson Upstairs
UID:e.2870.1367
SEQUENCE:3
DTSTAMP:20260422T013118Z
URL:https://business.donelsonhermitagechamber.com/events/details/chamber-board-of-directors-monthly-meeting-05-06-2021-1367
END:VEVENT

END:VCALENDAR
